Workbook

Sheet allgemeine Daten
F1: Niedersächsisches Kultusministerium
F3: Regionale Landesämter für Schule und Bildung
A5: Innovationsvorhaben BFS dual
A7: Angaben zur berichtenden Schule
A8: Name der Schule
A10: Adresse der Schule
A15: Telefonnummer der Schule
A17: Schulnummer
A19: Schulträger
A21: Leitung des Innovationsvorhabens
A24: Angaben zum Bericht
A25: Zwischenbericht | D25: x
A27: Jahresbericht
A29: Einstieg in das Innovationsvorhaben zum Schuljahr
A31: Berichtszeitraum
A32: 14.08.2025 -31.01.2026
A34: Anmerkungen

Sheet Zwischenbericht - empirische D.
A1: 1. Schulhalbjahr
A2: Hinweise: - tragen Sie Ihre Schwerpunkte (falls vorhanden) innerhalb des entsprechenden Profils ein - machen Sie Angaben nur mit Hilfe natürlicher Zahlen - beachten Sie: Spalten mit "davon" beziehen sich immer auf die direkt vorangegangen Spalten - die bedingte Formatierung wird Sie durch rot hinterlegte Zellen auf rechnerische Unstimmigkeiten hinweisen | D2: Anzahl SuS zum Schuljahresbeginn | E2: davon: Anzahl Wiederholer/-innen | F2: angemeldete Anzahl SuS mit Vorvertrag | G2: Anzahl Klassen | H2: Anzahl SuS mit Wunsch nach Wechsel des Profils | I2: Anzahl SuS die in ein anderes Profil wechseln | J2: Anzahl der SuS die aus einem anderen Profil kommen | K2: Anzahl SuS mit Wunsch nach Wechsel des Schwerpunktes | L2: Anzahl der SuS die in einen anderen Schwerpunkt wechseln | M2: Anzahl der SuS die aus einem anderen Schwerpunkt kommen | N2: Anzahl SuS ohne Praktikum zum Start des Praktikums | O2: Anzahl Zugänge nach Beginn des 1. Schulhalbjahres ("Nachzügler") | P2: davon: Anzahl SuS mit Abbruch Bertufsausbildung | Q2: Anzahl Abgänge im 1. Schulhalbjahr | R2: davon: Abgänge in Duale Berufsausbildung | S2: Anzahl SuS zum Ende 1. Schulhalbjahr | T2: Anzahl SuS BFS dual F | U2: Anzahl Klassen BFS dual F | V2: Anzahl SuS BFS dual B | W2: Anzahl Klassen BFS dual B | X2: Bemerkungen/Hinweise
B4: Schwerpunkt/e: | D4: Start des Schulhalbjahres | H4: Orientierungsphase | N4: Orientierungs-/ Qualifizierungsphase | Q4: Ende des 1. Schulhalbjahres | X4: Hinweise zu den Angbane
A5: Profil Wirtschaft | B5: 1.
B6: 2.
B7: 3.
B8: 4.
B9: 5.
B10: 6.
B11: 7.
B12: 8.
B13: 9.
B14: 10.
A15: Profil Technik | B15: 1.
B16: 2.
B17: 3.
B18: 4.
B19: 5.
B20: 6.
B21: 7.
B22: 8.
B23: 9.
B24: 10.
A25: Profil Gesundheit & Soziales | B25: 1.
B26: 2.
B27: 3.
B28: 4.
B29: 5.
B30: 6.
B31: 7.
B32: 8.
B33: 9.
B34: 10.

Sheet Zwischenbericht - Zusatzangaben
A1: 1. Schulhalbjahr
A2: Hinweise: - tragen Sie Ihre Schwerpunkte (falls vorhanden) innerhalb des entsprechenden Profils ein - Spalten mit Dropdown-Listen sind mit DDL gekennzeichnet | D2: zeitliche Ausgestaltung Praktikum (begleitend oder blockweise; DDL) | E2: Zeitraum Prakikum | F2: Anzahl möglicher Profilerkundigungen | G2: Anzahl möglicher Schwerpunkt- erkundigungen | H2: zusätzliche Konzepte | I2: Dauer der Orientierungsphase (DDL) | J2: (DDL) die Festlegung einheitlicher Übergangskriterien für den F-Strang …
B4: Schwerpunkt/e: | D4: Praktikum | F4: Ausgestaltung Orientierungsphase
A5: Profil Wirtschaft | B5: 1. | C5: ='Zwischenbericht - empirische D.'!C5 -> 0
B6: 2. | C6: ='Zwischenbericht - empirische D.'!C6 -> 0
B7: 3. | C7: ='Zwischenbericht - empirische D.'!C7 -> 0
B8: 4. | C8: ='Zwischenbericht - empirische D.'!C8 -> 0
B9: 5. | C9: ='Zwischenbericht - empirische D.'!C9 -> 0
B10: 6. | C10: ='Zwischenbericht - empirische D.'!C10 -> 0
B11: 7. | C11: ='Zwischenbericht - empirische D.'!C11 -> 0
B12: 8. | C12: ='Zwischenbericht - empirische D.'!C12 -> 0
B13: 9. | C13: ='Zwischenbericht - empirische D.'!C13 -> 0
B14: 10. | C14: ='Zwischenbericht - empirische D.'!C14 -> 0
A15: Profil Technik | B15: 1. | C15: ='Zwischenbericht - empirische D.'!C15 -> 0
B16: 2. | C16: ='Zwischenbericht - empirische D.'!C16 -> 0
B17: 3. | C17: ='Zwischenbericht - empirische D.'!C17 -> 0
B18: 4. | C18: ='Zwischenbericht - empirische D.'!C18 -> 0
B19: 5. | C19: ='Zwischenbericht - empirische D.'!C19 -> 0
B20: 6. | C20: ='Zwischenbericht - empirische D.'!C20 -> 0
B21: 7. | C21: ='Zwischenbericht - empirische D.'!C21 -> 0
B22: 8. | C22: ='Zwischenbericht - empirische D.'!C22 -> 0
B23: 9. | C23: ='Zwischenbericht - empirische D.'!C23 -> 0
B24: 10. | C24: ='Zwischenbericht - empirische D.'!C24 -> 0
A25: Profil Gesundheit & Soziales | B25: 1. | C25: ='Zwischenbericht - empirische D.'!C25 -> 0
B26: 2. | C26: ='Zwischenbericht - empirische D.'!C26 -> 0 | K26: ja
B27: 3. | C27: ='Zwischenbericht - empirische D.'!C27 -> 0 | K27: nein
B28: 4. | C28: ='Zwischenbericht - empirische D.'!C28 -> 0
B29: 5. | C29: ='Zwischenbericht - empirische D.'!C29 -> 0
B30: 6. | C30: ='Zwischenbericht - empirische D.'!C30 -> 0
B31: 7. | C31: ='Zwischenbericht - empirische D.'!C31 -> 0
B32: 8. | C32: ='Zwischenbericht - empirische D.'!C32 -> 0
B33: 9. | C33: ='Zwischenbericht - empirische D.'!C33 -> 0
B34: 10. | C34: ='Zwischenbericht - empirische D.'!C34 -> 0
D36: begleitend | I36: bis Herbstferien | J36: ist gut
D37: blockweise | I37: < 3 Wochen | J37: ist besser als eine schulspezifische Festlegung
I38: 3 Wochen | J38: keine Aussage möglich
I39: 4 Wochen
I40: anderes bitte kommentieren

Sheet Tabelle1
