Workbook

Sheet allgemeine Daten
F1: Niedersächsisches Kultusministerium
F3: Regionale Landesämter für Schule und Bildung
A5: Innovationsvorhaben BFS dual
A7: Angaben zur berichtenden Schule
A8: Name der Schule
A10: Adresse der Schule
A15: Telefonnummer der Schule
A17: Schulnummer
A19: Schulträger
A21: Leitung des Innovationsvorhabens
A24: Angaben zum Bericht
A25: Zwischenbericht
A27: Jahresbericht
A29: Einstieg in das Innovationsvorhaben zum Schuljahr
... A34: Anmerkungen

Sheet Zwischenbericht - empirische D.
A1: 1. Schulhalbjahr
A2: Hinweise: - tragen Sie Ihre Schwerpunkte (falls vorhanden) innerhalb des entsprechenden Profils ein - machen Sie Angaben nur mit Hilfe natürlicher Zahlen - beachten Sie: Spalten mit "davon" beziehen sich immer auf die direkt vorangegangen Spalten | D2: Anzahl SuS bei Anmeldung | E2: davon: Anzahl Wiederholer/-innen | F2: angemeldete Anzahl SuS mit Vorvertrag | G2: Anzahl Klassen | H2: Anzahl SuS mit Wunsch nach Wechsel des Profils/ des Schwerpunktes | I2: Anzahl SuS mit Profil- bzw. Schwerpunktwechsel | J2: Anzahl SuS ohne Praktikum zum Start des Praktikums | K2: Anzahl Zugänge nach Beginn des 1. Schulhalbjahres ("Nachzügler") | L2: davon: Anzahl SuS mit Abbruch Bertufsausbildung | M2: Anzahl Abgänge im 1. Schulhalbjahr | N2: davon: Abgänge in Duale Berufsausbildung | O2: Anzahl SuS zum Ende 1. Schulhalbjahr | P2: Anzahl SuS BFS dual F | Q2: Anzahl Klassen BFS dual F | R2: Anzahl SuS BFS dual B | S2: Anzahl Klassen BFS dual B
B4: Schwerpunkt/e: | D4: Start des Schulhalbjahres | H4: Orientierungsphase | J4: Orientierungs-/ Qualifizierungsphase | M4: Ende des 1. Schulhalbjahres
A5: Profil Wirtschaft | B5: 1.
B6: 2.
B7: 3.
B8: 4.
B9: 5.
B10: 6.
B11: 7.
A12: Profil Technik | B12: 1.
B13: 2.
B14: 3.
B15: 4.
B16: 5.
B17: 6.
B18: 7.
A19: Profil Gesundheit & Soziales | B19: 1.
B20: 2.
B21: 3.
B22: 4.
B23: 5.
B24: 6.
B25: 7.
A27: Gesamt: | D27: =SUM(D5:D25) -> 0 | E27: =SUM(E5:E25) -> 0 | F27: =SUM(F5:F25) -> 0 | G27: =SUM(G5:G25) -> 0 | H27: =SUM(H5:H25) -> 0 | I27: =SUM(I5:I25) -> 0 | J27: =SUM(J5:J25) -> 0 | K27: =SUM(K5:K25) -> 0 | ... M27: =SUM(M5:M25) -> 0 | O27: =SUM(O5:O25) -> 0 | P27: =SUM(P5:P25) -> 0 | Q27: =SUM(Q5:Q25) -> 0 | R27: =SUM(R5:R25) -> 0 | S27: =SUM(S5:S25) -> 0

Sheet Zwischenbericht - Zusatzangaben
A1: 1. Schulhalbjahr
A2: Hinweise: -tragen Sie Ihre Schwerpunkte (falls vorhanden) innerhalb des entsprechenden Profils ein - sollten Angaben ein gesamtes Profil oder den gesamten Bildungsgang betreffen, können Zeilen entsprechend verbunden werden - beachten Sie, dass einige Felder über Dropdownlisten auszufüllen sind | D2: zeitliche Ausgestaltung Praktikum (begleitend oder blockweise) | E2: Zeitraum Prakikum | F2: Anzahl möglicher Profilerkundigungen | G2: Anzahl möglicher Schwerpunkt- erkundigungen | H2: zusätzliche Konzepte | I2: Dauer der Orientierungsphase | J2: Übergangsregelungen BFS dual B/ BFS dual F | K2: haben Sie Ihre Regelungen gegenüber dem Vorjahr verändert? | L2: wenn Ändrungen erfolgten - wie und warum?
B4: Schwerpunkt/e: | D4: Praktikum | F4: Ausgestaltung Orientierungsphase
A5: Profil Wirtschaft | B5: 1. | C5: ='Zwischenbericht - empirische D.'!C5 -> 0
B6: 2. | C6: ='Zwischenbericht - empirische D.'!C6 -> 0
B7: 3. | C7: ='Zwischenbericht - empirische D.'!C7 -> 0
B8: 4. | C8: ='Zwischenbericht - empirische D.'!C8 -> 0
B9: 5. | C9: ='Zwischenbericht - empirische D.'!C9 -> 0
B10: 6. | C10: ='Zwischenbericht - empirische D.'!C10 -> 0
B11: 7. | C11: ='Zwischenbericht - empirische D.'!C11 -> 0
A12: Profil Technik | B12: 1. | C12: ='Zwischenbericht - empirische D.'!C12 -> 0
B13: 2. | C13: ='Zwischenbericht - empirische D.'!C13 -> 0
B14: 3. | C14: ='Zwischenbericht - empirische D.'!C14 -> 0
B15: 4. | C15: ='Zwischenbericht - empirische D.'!C15 -> 0
B16: 5. | C16: ='Zwischenbericht - empirische D.'!C16 -> 0
B17: 6. | C17: ='Zwischenbericht - empirische D.'!C17 -> 0
B18: 7. | C18: ='Zwischenbericht - empirische D.'!C18 -> 0
A19: Profil Gesundheit & Soziales | B19: 1. | C19: ='Zwischenbericht - empirische D.'!C19 -> 0
B20: 2. | C20: ='Zwischenbericht - empirische D.'!C20 -> 0 | N20: ja
B21: 3. | C21: ='Zwischenbericht - empirische D.'!C21 -> 0 | N21: nein
B22: 4. | C22: ='Zwischenbericht - empirische D.'!C22 -> 0
B23: 5. | C23: ='Zwischenbericht - empirische D.'!C23 -> 0
B24: 6. | C24: ='Zwischenbericht - empirische D.'!C24 -> 0
B25: 7. | C25: ='Zwischenbericht - empirische D.'!C25 -> 0
D27: begleitend | I27: bis Herbstferien
D28: blockweise | I28: < 3 Wochen
I29: 3 Wochen
I30: 4 Wochen
I31: anderes bitte kommentieren
